BEGIN:VCALENDAR
VERSION:2.0
PRODID:-//eventon.com NONSGML v1.0//EN
BEGIN:VEVENT
UID:69e5e746ef4cf
DTSTAMP:20260420T094350
DTSTART:20260314T080000Z
DTEND:20260314T120000Z
LOCATION:Shoreham Farmers Market East Street\,  Shoreham-By-Sea\,  West Sussex BN43 6RQ
SUMMARY:Shoreham Farmers Market
DESCRIPTION: The Shoreham Farmers Market is held on the 2nd Saturday of each month https://www.adur-worthing.gov.uk/markets/#shoreham-farmers-markets
END:VEVENT
END:VCALENDAR